View In:
ArcGIS JavaScript
ArcGIS Online Map Viewer
ArcGIS Earth
ArcMap
View Footprint In:
ArcGIS Online Map Viewer
Service Description: The data was collected by Unmanned Aerial Vehicle at an altitude of 120mAGL. UAV used was the custom built Mapper UAV using a PixHawk2 flight controller and 24mp Sony camera.2.5cm Pixel aerial image captured by UAV
Gunbower Creek Aerial Image 7 April 2014.
Name: Imagery/Raster_DBO_aerial_Gunbower_Creek_2014
Description: The data was collected by Unmanned Aerial Vehicle at an altitude of 120mAGL. UAV used was the custom built Mapper UAV using a PixHawk2 flight controller and 24mp Sony camera.2.5cm Pixel aerial image captured by UAV
Gunbower Creek Aerial Image 7 April 2014.
Single Fused Map Cache: false
Extent:
XMin: 248841.48
YMin: 6017633.22794
XMax: 263533.40418
YMax: 6035005.492
Spatial Reference: 32755
(32755)
Initial Extent:
XMin: 248841.48
YMin: 6017633.22794
XMax: 263533.40418
YMax: 6035005.492
Spatial Reference: 32755
(32755)
Full Extent:
XMin: 248841.48
YMin: 6017633.22794
XMax: 263533.40418
YMax: 6035005.492
Spatial Reference: 32755
(32755)
Pixel Size X: 0.03778000000000001
Pixel Size Y: 0.03777999999999991
Band Count: 3
Pixel Type: U8
RasterFunction Infos: {"rasterFunctionInfos": [{
"name": "None",
"description": "A No-Op Function.",
"help": ""
}]}
Mensuration Capabilities: None
Has Histograms: true
Has Colormap: false
Has Multi Dimensions : false
Rendering Rule:
Min Scale: 0
Max Scale: 0
Copyright Text: Australian UAV Pty Ltd
Service Data Type: esriImageServiceDataTypeRGB
Min Values: 8, 25, 12
Max Values: 255, 255, 255
Mean Values: 245.47361331180426, 245.01115688552875, 244.52927701570917
Standard Deviation Values: 30.571205445429502, 28.49643908146988, 33.68704029864728
Object ID Field: OBJECTID
Fields:
-
OBJECTID
(
type: esriFieldTypeOID, alias: OBJECTID
)
-
Name
(
type: esriFieldTypeString, alias: Name, length: 200
)
-
MinPS
(
type: esriFieldTypeDouble, alias: MinPS
)
-
MaxPS
(
type: esriFieldTypeDouble, alias: MaxPS
)
-
LowPS
(
type: esriFieldTypeDouble, alias: LowPS
)
-
HighPS
(
type: esriFieldTypeDouble, alias: HighPS
)
-
Category
(
type: esriFieldTypeInteger, alias: Category
, Coded Values:
[0: Unknown]
, [1: Primary]
, [2: Overview]
, ...5 more...
)
-
Tag
(
type: esriFieldTypeString, alias: Tag, length: 100
)
-
GroupName
(
type: esriFieldTypeString, alias: GroupName, length: 100
)
-
ProductName
(
type: esriFieldTypeString, alias: ProductName, length: 100
)
-
CenterX
(
type: esriFieldTypeDouble, alias: CenterX
)
-
CenterY
(
type: esriFieldTypeDouble, alias: CenterY
)
-
ZOrder
(
type: esriFieldTypeInteger, alias: ZOrder
)
-
Shape
(
type: esriFieldTypeGeometry, alias: Shape
)
-
Shape.STArea()
(
type: esriFieldTypeDouble, alias: Shape.STArea()
)
-
Shape.STLength()
(
type: esriFieldTypeDouble, alias: Shape.STLength()
)
Default Mosaic Method: Northwest
Allowed Mosaic Methods: NorthWest,Center,LockRaster,ByAttribute,Nadir,Viewpoint,Seamline,None
SortField:
SortValue: null
Mosaic Operator: First
Default Compression Quality: 75
Default Resampling Method: Bilinear
Max Record Count: 1000
Max Image Height: 4100
Max Image Width: 15000
Max Download Image Count: 20
Max Mosaic Image Count: 20
Allow Raster Function: true
Allow Copy: null
Allow Analysis: null
Allow Compute TiePoints: false
Supports Statistics: true
Supports Advanced Queries: true
Use StandardizedQueries: true
Raster Type Infos:
Name: Raster Dataset
Description: Supports all ArcGIS Raster Datasets
Help:
Has Raster Attribute Table: false
Edit Fields Info: null
Ownership Based AccessControl For Rasters: null
Child Resources:
Info
Histograms
Key Properties
Legend
Raster Function Infos
Supported Operations:
Export Image
Query
Identify
Compute Histograms
Compute Statistics Histograms
Get Samples
Compute Class Statistics
Query Boundary
Compute Pixel Location
Compute Angles
Validate
Project