{
 "currentVersion": 10.91,
 "serviceDescription": "A mosaic of shire based aerial images available in 2007.",
 "name": "Imagery/Raster_DBO_RegionalMosaic_jpg_vg",
 "description": "A mosaic of shire based aerial images available in 2007.",
 "extent": {
  "xmin": 2291272.8319110745,
  "ymin": 2441989.540711684,
  "xmax": 2488656.8319110745,
  "ymax": 2697293.040711684,
  "spatialReference": {
   "wkid": 102171,
   "latestWkid": 3111
  }
 },
 "initialExtent": {
  "xmin": 2291272.8319110745,
  "ymin": 2441989.540711684,
  "xmax": 2488656.8319110745,
  "ymax": 2697293.040711684,
  "spatialReference": {
   "wkid": 102171,
   "latestWkid": 3111
  }
 },
 "fullExtent": {
  "xmin": 2291272.8319110745,
  "ymin": 2441989.540711684,
  "xmax": 2488656.8319110745,
  "ymax": 2697293.040711684,
  "spatialReference": {
   "wkid": 102171,
   "latestWkid": 3111
  }
 },
 "pixelSizeX": 0.5,
 "pixelSizeY": 0.5,
 "bandCount": 3,
 "pixelType": "U8",
 "minPixelSize": 1.3229193125052918,
 "maxPixelSize": 2116.670900008467,
 "copyrightText": "",
 "serviceDataType": "esriImageServiceDataTypeRGB",
 "minValues": [
  0,
  0,
  0
 ],
 "maxValues": [
  255,
  255,
  255
 ],
 "meanValues": [
  149.97917867425545,
  142.10565658483515,
  121.58366742784615
 ],
 "stdvValues": [
  53.006974608815014,
  48.56359315236298,
  50.608496970959685
 ],
 "objectIdField": "OBJECTID",
 "fields": [
  {
   "name": "OBJECTID",
   "type": "esriFieldTypeOID",
   "alias": "OBJECTID",
   "domain": null
  },
  {
   "name": "Name",
   "type": "esriFieldTypeString",
   "alias": "Name",
   "domain": null,
   "length": 50
  },
  {
   "name": "MinPS",
   "type": "esriFieldTypeDouble",
   "alias": "MinPS",
   "domain": null
  },
  {
   "name": "MaxPS",
   "type": "esriFieldTypeDouble",
   "alias": "MaxPS",
   "domain": null
  },
  {
   "name": "LowPS",
   "type": "esriFieldTypeDouble",
   "alias": "LowPS",
   "domain": null
  },
  {
   "name": "HighPS",
   "type": "esriFieldTypeDouble",
   "alias": "HighPS",
   "domain": null
  },
  {
   "name": "Category",
   "type": "esriFieldTypeInteger",
   "alias": "Category",
   "domain": {
    "type": "codedValue",
    "name": "MosaicCatalogItemCategoryDomain",
    "description": "Catalog item categories.",
    "codedValues": [
     {
      "name": "Unknown",
      "code": 0
     },
     {
      "name": "Primary",
      "code": 1
     },
     {
      "name": "Overview",
      "code": 2
     },
     {
      "name": "Unprocessed Overview",
      "code": 3
     },
     {
      "name": "Partial Overview",
      "code": 4
     },
     {
      "name": "Uploaded",
      "code": 253
     },
     {
      "name": "Incomplete",
      "code": 254
     },
     {
      "name": "Custom",
      "code": 255
     }
    ],
    "mergePolicy": "esriMPTDefaultValue",
    "splitPolicy": "esriSPTDefaultValue"
   }
  },
  {
   "name": "Tag",
   "type": "esriFieldTypeString",
   "alias": "Tag",
   "domain": null,
   "length": 20
  },
  {
   "name": "GroupName",
   "type": "esriFieldTypeString",
   "alias": "GroupName",
   "domain": null,
   "length": 50
  },
  {
   "name": "ProductName",
   "type": "esriFieldTypeString",
   "alias": "ProductName",
   "domain": null,
   "length": 50
  },
  {
   "name": "CenterX",
   "type": "esriFieldTypeDouble",
   "alias": "CenterX",
   "domain": null
  },
  {
   "name": "CenterY",
   "type": "esriFieldTypeDouble",
   "alias": "CenterY",
   "domain": null
  },
  {
   "name": "ZOrder",
   "type": "esriFieldTypeInteger",
   "alias": "ZOrder",
   "domain": null
  },
  {
   "name": "Shape",
   "type": "esriFieldTypeGeometry",
   "alias": "Shape",
   "domain": null
  },
  {
   "name": "Shape.STArea()",
   "type": "esriFieldTypeDouble",
   "alias": "Shape.STArea()",
   "domain": null
  },
  {
   "name": "Shape.STLength()",
   "type": "esriFieldTypeDouble",
   "alias": "Shape.STLength()",
   "domain": null
  }
 ],
 "capabilities": "Catalog,Mensuration,Image,Metadata",
 "defaultMosaicMethod": "Northwest",
 "allowedMosaicMethods": "NorthWest,Center,LockRaster,ByAttribute,Nadir,Viewpoint,Seamline,None",
 "sortField": "",
 "sortValue": null,
 "sortAscending": true,
 "mosaicOperator": "First",
 "maxDownloadSizeLimit": 2048,
 "defaultCompressionQuality": 75,
 "defaultResamplingMethod": "Bilinear",
 "maxImageHeight": 4100,
 "maxImageWidth": 15000,
 "maxRecordCount": 1000,
 "maxDownloadImageCount": 20,
 "maxMosaicImageCount": 20,
 "singleFusedMapCache": true,
 "tileInfo": {
  "rows": 256,
  "cols": 256,
  "dpi": 96,
  "format": "PNG32",
  "compressionQuality": 0,
  "origin": {
   "x": 1786000,
   "y": 3081000
  },
  "spatialReference": {
   "wkid": 102171,
   "latestWkid": 3111
  },
  "lods": [
   {
    "level": 0,
    "resolution": 2116.670900008467,
    "scale": 8000000
   },
   {
    "level": 1,
    "resolution": 1058.3354500042335,
    "scale": 4000000
   },
   {
    "level": 2,
    "resolution": 529.1677250021168,
    "scale": 2000000
   },
   {
    "level": 3,
    "resolution": 264.5838625010584,
    "scale": 1000000
   },
   {
    "level": 4,
    "resolution": 132.2919312505292,
    "scale": 500000
   },
   {
    "level": 5,
    "resolution": 66.1459656252646,
    "scale": 250000
   },
   {
    "level": 6,
    "resolution": 26.458386250105836,
    "scale": 100000
   },
   {
    "level": 7,
    "resolution": 13.229193125052918,
    "scale": 50000
   },
   {
    "level": 8,
    "resolution": 6.614596562526459,
    "scale": 25000
   },
   {
    "level": 9,
    "resolution": 2.6458386250105836,
    "scale": 10000
   },
   {
    "level": 10,
    "resolution": 1.3229193125052918,
    "scale": 5000
   }
  ]
 },
 "cacheType": "Map",
 "allowRasterFunction": true,
 "rasterFunctionInfos": [
  {
   "name": "None",
   "description": "",
   "help": ""
  }
 ],
 "rasterTypeInfos": [
  {
   "name": "Raster Dataset",
   "description": "Supports all ArcGIS Raster Datasets",
   "help": ""
  }
 ],
 "mensurationCapabilities": "None,Basic",
 "hasHistograms": true,
 "hasColormap": false,
 "hasRasterAttributeTable": false,
 "minScale": 8000000,
 "maxScale": 5000,
 "minLOD": 0,
 "maxLOD": 10,
 "exportTilesAllowed": false,
 "hasMultidimensions": false,
 "supportsStatistics": true,
 "supportsAdvancedQueries": true,
 "editFieldsInfo": null,
 "ownershipBasedAccessControlForRasters": null,
 "allowComputeTiePoints": false,
 "useStandardizedQueries": true,
 "advancedQueryCapabilities": {
  "useStandardizedQueries": true,
  "supportsStatistics": true,
  "supportsOrderBy": true,
  "supportsDistinct": true,
  "supportsPagination": true
 },
 "spatialReference": {
  "wkid": 102171,
  "latestWkid": 3111
 }
}
