{
 "currentVersion": 10.91,
 "serviceDescription": "Hillshade display of statewide DEM",
 "name": "Imagery/Raster_DBO_NC_Hillshade",
 "description": "Hillshade display of statewide DEM",
 "extent": {
  "xmin": 2291180,
  "ymin": 2442880,
  "xmax": 2488180,
  "ymax": 2697380,
  "spatialReference": {
   "wkid": 102171,
   "latestWkid": 3111
  }
 },
 "initialExtent": {
  "xmin": 2291180,
  "ymin": 2442880,
  "xmax": 2488180,
  "ymax": 2697380,
  "spatialReference": {
   "wkid": 102171,
   "latestWkid": 3111
  }
 },
 "fullExtent": {
  "xmin": 2291180,
  "ymin": 2442880,
  "xmax": 2488180,
  "ymax": 2697380,
  "spatialReference": {
   "wkid": 102171,
   "latestWkid": 3111
  }
 },
 "pixelSizeX": 20,
 "pixelSizeY": 20,
 "bandCount": 1,
 "pixelType": "U8",
 "minPixelSize": 0,
 "maxPixelSize": 0,
 "copyrightText": "State of Victoria",
 "serviceDataType": "esriImageServiceDataTypeGeneric",
 "minValues": [],
 "maxValues": [],
 "meanValues": [],
 "stdvValues": [],
 "objectIdField": "",
 "fields": [],
 "capabilities": "Mensuration,Image,Metadata",
 "defaultMosaicMethod": "Center",
 "allowedMosaicMethods": "",
 "sortField": "",
 "sortValue": null,
 "sortAscending": true,
 "mosaicOperator": "First",
 "defaultCompressionQuality": 75,
 "defaultResamplingMethod": "Bilinear",
 "maxImageHeight": 4100,
 "maxImageWidth": 15000,
 "allowRasterFunction": true,
 "rasterFunctionInfos": [
  {
   "name": "None",
   "description": "",
   "help": ""
  }
 ],
 "rasterTypeInfos": [
  {
   "name": "Raster Dataset",
   "description": "Supports all ArcGIS Raster Datasets",
   "help": ""
  }
 ],
 "mensurationCapabilities": "Basic",
 "hasHistograms": false,
 "hasColormap": false,
 "hasRasterAttributeTable": true,
 "minScale": 0,
 "maxScale": 0,
 "exportTilesAllowed": false,
 "hasMultidimensions": false,
 "supportsStatistics": false,
 "supportsAdvancedQueries": false,
 "editFieldsInfo": null,
 "ownershipBasedAccessControlForRasters": null,
 "allowComputeTiePoints": false,
 "useStandardizedQueries": true,
 "advancedQueryCapabilities": {
  "useStandardizedQueries": true,
  "supportsStatistics": false,
  "supportsOrderBy": false,
  "supportsDistinct": false,
  "supportsPagination": false
 },
 "spatialReference": {
  "wkid": 102171,
  "latestWkid": 3111
 }
}
